BEGIN:VCALENDAR
VERSION:2.0
PRODID:-//Office of Faculty Development//NONSGML Events//EN
CALSCALE:GREGORIAN
X-ORIGINAL-URL:https://internalmedicinefaculty.wustl.edu/events/
X-WR-CALDESC:Office of Faculty Development - Events
BEGIN:VEVENT
UID:20241102T1439Z-1730558341.8259-EO-6670-1@10.24.106.144
STATUS:CONFIRMED
DTSTAMP:20260425T151955Z
CREATED:20241101T183455Z
LAST-MODIFIED:20241101T183757Z
DTSTART;TZID=America/Chicago:20241119T080000
DTEND;TZID=America/Chicago:20241119T120000
SUMMARY: DOM Leadership Training Course – Session 1
DESCRIPTION: Session 1 – Systems Thinking Training Objectives: Advance lead
 ership and facilitation skills to improve team dynamics and effectively ach
 ieve desired outcomes Enhance knowledge of the vocabulary\, concepts\, and 
 strategies fundamental for success in leading system and process change in 
 health care Improve leadership effectiveness by enhancing situation apprais
 al and decision making skills Please Note: The […]
X-ALT-DESC;FMTTYPE=text/html: <p><strong>Session 1 - Systems Thinking</stro
 ng></p><p><strong>Training Objectives:</strong></p><ul><li>Advance leadersh
 ip and facilitation skills to improve team dynamics and effectively achieve
  desired outcomes</li><li>Enhance knowledge of the vocabulary\, concepts\, 
 and strategies fundamental for success in leading system and process change
  in health care</li><li>Improve leadership effectiveness by enhancing situa
 tion appraisal and decision making skills</li></ul><p><em>Please Note: The 
 <a href="https://internalmedicinefaculty.wustl.edu/development/leadership/"
 >DOM Leadership Training Sessions</a> are only for members of the 2024 Coho
 rt. </em></p>
CATEGORIES:DOM Leadership Training Courses
LOCATION:Eric P. Newman Education Center
GEO:38.636879;-90.262400
ORGANIZER;CN="Jennifer":MAILTO:mosherj@wustl.edu
URL;VALUE=URI:https://internalmedicinefaculty.wustl.edu/events/event/dom-le
 adership-training-course-session-1-3/
END:VEVENT
BEGIN:VTIMEZONE
TZID:America/Chicago
BEGIN:STANDARD
TZOFFSETFROM:-0500
TZOFFSETTO:-0600
DTSTART:20241103T070000
TZNAME:CST
END:STANDARD
END:VTIMEZONE
END:VCALENDAR
