BEGIN:VCALENDAR
VERSION:2.0
PRODID:-//Office of Faculty Development//NONSGML Events//EN
CALSCALE:GREGORIAN
X-ORIGINAL-URL:https://internalmedicinefaculty.wustl.edu/events/
X-WR-CALDESC:Office of Faculty Development - Events
BEGIN:VEVENT
UID:20170107T0414Z-1483762499.6582-EO-645-1@172.20.65.30
STATUS:CONFIRMED
DTSTAMP:20260421T052356Z
CREATED:20170104T164927Z
LAST-MODIFIED:20190910T150731Z
DTSTART;TZID=America/Chicago:20191204T100000
DTEND;TZID=America/Chicago:20191204T170000
SUMMARY: Fall NIH Mock Study Section – Letters of Intent are due September 
 30\, 2019
DESCRIPTION: December 4\, 2019 10:00am-5:00pm Location: Parkview Tower\, Fi
 rst Floor\, Conference Room D Letters of Intent are due September 30\, 2019
  For more information visit: ICTS NIH Mock Study    
X-ALT-DESC;FMTTYPE=text/html: <p><strong>December 4\, 2019</strong><br /><s
 trong>10:00am-5:00pm</strong><br /><strong>Location: Parkview Tower\, First
  Floor\, Conference Room D<br /></strong></p><p><em><strong>Letters of Inte
 nt are due September 30\, 2019</strong></em></p><p>For more information vis
 it: <a href="https://icts.wustl.edu/icts-researchers/icts-cores/nih-mock-st
 udy">ICTS NIH Mock Study</a></p><p> </p><p> </p>
ORGANIZER;CN="Jennifer":MAILTO:mosherj@wustl.edu
URL;VALUE=URI:https://internalmedicinefaculty.wustl.edu/events/event/spring
 -nih-mock-study-section/
END:VEVENT
BEGIN:VTIMEZONE
TZID:America/Chicago
BEGIN:STANDARD
TZOFFSETFROM:-0500
TZOFFSETTO:-0600
DTSTART:20191103T070000
TZNAME:CST
END:STANDARD
END:VTIMEZONE
END:VCALENDAR
