BEGIN:VCALENDAR
VERSION:2.0
PRODID:-//Office of Faculty Development//NONSGML Events//EN
CALSCALE:GREGORIAN
X-ORIGINAL-URL:https://internalmedicinefaculty.wustl.edu/events/
X-WR-CALDESC:Office of Faculty Development - Events
BEGIN:VEVENT
UID:20171025T0735Z-1508916920.7884-EO-1815-1@172.20.65.30
STATUS:CONFIRMED
DTSTAMP:20260422T113529Z
CREATED:20171024T143530Z
LAST-MODIFIED:20171024T143530Z
DTSTART;TZID=America/Chicago:20171109T160000
DTEND;TZID=America/Chicago:20171109T170000
SUMMARY: #SciComm Thursdays:  Preparing Dynamic and Engaging Presentations
DESCRIPTION: “Preparing Dynamic and Engaging Presentations” Presented by: D
 r. Vicky Fraser\, Infectious Diseases – Faculty Expert Connor Auditorium\, 
 Farrell Learning and Teaching Center #SciComm Thursdays Flyer (pdf)
X-ALT-DESC;FMTTYPE=text/html: <p><strong>"Preparing Dynamic and Engaging Pr
 esentations"</strong></p><p>Presented by:<br />Dr. Vicky Fraser\, Infectiou
 s Diseases - Faculty Expert</p><p>Connor Auditorium\, Farrell Learning and 
 Teaching Center</p><p><a href="https://internalmedicinefaculty.wustl.edu/ap
 p/uploads/2017/10/SciComm-Thursdays-Flyer-Version.pdf">#SciComm Thursdays F
 lyer (pdf)</a></p>
ORGANIZER;CN="Jennifer":MAILTO:mosherj@wustl.edu
URL;VALUE=URI:https://internalmedicinefaculty.wustl.edu/events/event/scicom
 m-thursdays-preparing-dynamic-and-engaging-presentations/
END:VEVENT
BEGIN:VTIMEZONE
TZID:America/Chicago
BEGIN:STANDARD
TZOFFSETFROM:-0500
TZOFFSETTO:-0600
DTSTART:20171105T070000
TZNAME:CST
END:STANDARD
END:VTIMEZONE
END:VCALENDAR
