BEGIN:VCALENDAR
VERSION:2.0
PRODID:-//Office of Faculty Development//NONSGML Events//EN
CALSCALE:GREGORIAN
X-ORIGINAL-URL:https://internalmedicinefaculty.wustl.edu/events/
X-WR-CALDESC:Office of Faculty Development - Events
BEGIN:VEVENT
UID:20170425T1353Z-1493128427.007-EO-994-1@172.20.65.30
STATUS:CONFIRMED
DTSTAMP:20260419T215643Z
CREATED:20170424T182706Z
LAST-MODIFIED:20170424T182706Z
DTSTART;TZID=America/Chicago:20170501T163000
DTEND;TZID=America/Chicago:20170501T173000
SUMMARY: OUTmed Launch Party
DESCRIPTION: Monday\, May 1\, 2017  4:30-5:30pm  FLTC\, 2nd floor Hearth ar
 ea Please join Dr. Vicky Fraser and Dr. Will Ross as we kick off OUTmedand 
 the OUTlist/ALLYlist with a poster making session for the Pride parade\, re
 freshments\, and a short program. Launch Party flyer (pdf) Please RSVP to m
 osherj@wustl.edu by April 28th. Can’t make it to the […]
X-ALT-DESC;FMTTYPE=text/html: <p><strong>Monday\, May 1\, 2017 </strong><br
  /><strong>4:30-5:30pm </strong><br /><strong>FLTC\, 2nd floor Hearth area<
 /strong></p><p>Please join Dr. Vicky Fraser and Dr. Will Ross as we kick of
 f OUTmedand the OUTlist/ALLYlist with a poster making session for the Pride
  parade\, refreshments\, and a short program.</p><p><a href="https://intern
 almedicinefaculty.wustl.edu/app/uploads/2017/04/Launch-Party_Final.pdf">Lau
 nch Party flyer (pdf)</a></p><p>Please RSVP to <a href="mosherj@wustl.edu">
 mosherj@wustl.edu</a> by April 28th.<br />Can't make it to the party? Visit
  the new OUTmed page to sign up for the OUTlist/ALLYlist and order your T-s
 hirt for Pride:<br /><a href="http://internalmedicine.wustl.edu/about/diver
 sity/forum-for-lgbtq/">http://internalmedicine.wustl.edu/about/diversity/fo
 rum-for-lgbtq/</a></p>
ORGANIZER;CN="Jennifer":MAILTO:mosherj@wustl.edu
URL;VALUE=URI:https://internalmedicinefaculty.wustl.edu/events/event/outmed
 -launch-party/
END:VEVENT
BEGIN:VTIMEZONE
TZID:America/Chicago
BEGIN:DAYLIGHT
TZOFFSETFROM:-0600
TZOFFSETTO:-0500
DTSTART:20170312T080000
TZNAME:CDT
END:DAYLIGHT
END:VTIMEZONE
END:VCALENDAR
