BEGIN:VCALENDAR
VERSION:2.0
PRODID:-//Office of Faculty Development//NONSGML Events//EN
CALSCALE:GREGORIAN
X-ORIGINAL-URL:https://internalmedicinefaculty.wustl.edu/events/
X-WR-CALDESC:Office of Faculty Development - Events
BEGIN:VEVENT
UID:20170323T2302Z-1490310144.1805-EO-844-1@172.20.65.30
STATUS:CONFIRMED
DTSTAMP:20260424T083851Z
CREATED:20170323T141729Z
LAST-MODIFIED:20170323T141739Z
DTSTART;TZID=America/Chicago:20170425T120000
DTEND;TZID=America/Chicago:20170425T130000
SUMMARY: NIH Biosketch and NCBI SciENCV
DESCRIPTION: Tuesday April 25\, 2017​ Farrell Learning and Teaching Center\
 , Room 213 12:00 to 1:00pm Registration The session will review the instruc
 tions for creating a biosketch in the NIH format and include a review of NC
 BI SciENcv\, a tool to generate a biosketch.
X-ALT-DESC;FMTTYPE=text/html: <p><strong>Tuesday April 25\, 2017</strong><s
 trong>​<br /></strong>Farrell Learning and Teaching Center\, Room 213<br />
 12:00 to 1:00pm</p><p><a href="http://mailingsresponse.wustl.edu/trk/click?
 ref=z1030up2e7_1-6ee2x35134x0385&">Registration</a></p><p>The session will 
 review the instructions for creating a biosketch in the NIH format and incl
 ude a review of NCBI SciENcv\, a tool to generate a biosketch.</p>
ORGANIZER;CN="Jennifer":MAILTO:mosherj@wustl.edu
URL;VALUE=URI:https://internalmedicinefaculty.wustl.edu/events/event/nih-bi
 osketch-and-ncbi-sciencv/
END:VEVENT
BEGIN:VTIMEZONE
TZID:America/Chicago
BEGIN:DAYLIGHT
TZOFFSETFROM:-0600
TZOFFSETTO:-0500
DTSTART:20170312T080000
TZNAME:CDT
END:DAYLIGHT
END:VTIMEZONE
END:VCALENDAR
