BEGIN:VCALENDAR
VERSION:2.0
PRODID:-//Office of Faculty Development//NONSGML Events//EN
CALSCALE:GREGORIAN
X-ORIGINAL-URL:https://internalmedicinefaculty.wustl.edu/events/
X-WR-CALDESC:Office of Faculty Development - Events
BEGIN:VEVENT
UID:20161207T2139Z-1481146757.9738-EO-357-1@172.21.70.58
STATUS:CONFIRMED
DTSTAMP:20260421T104829Z
CREATED:20161201T191851Z
LAST-MODIFIED:20180813T183753Z
DTSTART;TZID=America/Chicago:20180822T123000
DTEND;TZID=America/Chicago:20180822T153000
SUMMARY: 2018 DOM New Faculty Orientation
DESCRIPTION: Wednesday\, August 22\, 2018 12:30-3:00 p.m. Eric P. Newman Ed
 ucation Center\, Seminar Room B Presented by:  Dr. Angela Brown and Dr. Mar
 io Castro\, Office of Faculty Development All new or recently hired faculty
  in the Department of Medicine are encouraged to attend! Lunch provided. Re
 gister for New Faculty Orientation Orientation Agenda Welcome & Overview of
  […]
X-ALT-DESC;FMTTYPE=text/html: <p><strong>Wednesday\, August 22\, 2018</stro
 ng><br /><strong>12:30-3:00 p.m.</strong><br /><strong>Eric P. Newman Educa
 tion Center\, Seminar Room B</strong></p><p>Presented by:  Dr. Angela Brown
  and Dr. Mario Castro\, Office of Faculty Development</p><p>All new or rece
 ntly hired faculty in the Department of Medicine are encouraged to attend!<
 br />Lunch provided.</p><p><a href="https://wucrtc.az1.qualtrics.com/jfe/fo
 rm/SV_80KYX52SaFncgwR">Register for New Faculty Orientation</a></p><p><span
  style="text-decoration: underline\;"><strong>Orientation Agenda<br /></str
 ong></span>Welcome & Overview of OFD<br />How does the medical school and t
 he DOM work?<br />How do I plan my career development and succeed in academ
 ics?<br />What if I am interested in research?<em><br /></em>OFD website an
 d resources<em><br /></em></p><p>For more information\, please contact Jenn
 ifer Mosher at <a href="mosherj@wustl.edu">mosherj@wustl.edu</a></p>
ORGANIZER;CN="Jennifer":MAILTO:mosherj@wustl.edu
URL;VALUE=URI:https://internalmedicinefaculty.wustl.edu/events/event/new-fa
 culty-orientation/
END:VEVENT
BEGIN:VTIMEZONE
TZID:America/Chicago
BEGIN:DAYLIGHT
TZOFFSETFROM:-0600
TZOFFSETTO:-0500
DTSTART:20180311T080000
TZNAME:CDT
END:DAYLIGHT
END:VTIMEZONE
END:VCALENDAR
