BEGIN:VCALENDAR
VERSION:2.0
PRODID:-//Office of Faculty Development//NONSGML Events//EN
CALSCALE:GREGORIAN
X-ORIGINAL-URL:https://internalmedicinefaculty.wustl.edu/events/
X-WR-CALDESC:Office of Faculty Development - Events
BEGIN:VEVENT
UID:20221117T0323Z-1668655388.4217-EO-5841-1@172.23.128.19
STATUS:CONFIRMED
DTSTAMP:20260420T075204Z
CREATED:20221114T203700Z
LAST-MODIFIED:20221114T204333Z
DTSTART;TZID=America/Chicago:20221206T153000
DTEND;TZID=America/Chicago:20221206T170000
SUMMARY: Negotiating Effectively for Workplace Success
DESCRIPTION: Rebecca Hollander-Blumoff\, JD\, PhD – Professor of Law\, Wash
 ington University in St. Louis This seminar is part of the CRTC Career Deve
 lopment Seminar Series. The Career Development Seminar Series offers period
 ic workshops and presentations open to all trainees\, faculty and staff on 
 professional development\, best practices\, resources and guidelines pertai
 ning to research. This seminar is co-sponsored by The […]
X-ALT-DESC;FMTTYPE=text/html: <p><strong>Rebecca Hollander-Blumoff\, JD\, P
 hD </strong>– Professor of Law\, Washington University in St. Louis</p><p>T
 his seminar is part of the<strong> <a href="https://crtc.wustl.edu/resource
 s/workshops-seminars/">CRTC Career Development Seminar Series</a></strong>.
  The Career Development Seminar Series offers periodic workshops and presen
 tations open to all trainees\, faculty and staff on professional developmen
 t\, best practices\, resources and guidelines pertaining to research.</p><p
 >This seminar is co-sponsored by The Clinical Research Training Center\, Of
 fice of Faculty Development – Department of Medicine\, IDEASatDOM\, and Gol
 dfarb School of Nursing</p><ul><li>In Person – Moore Auditorium</li><li>To 
 register for a zoom link\, contact Aisha Davis at <a href="mailto:aishaydav
 is@wustl.edu" target="_blank" rel="noopener noreferrer" data-auth="NotAppli
 cable" data-safelink="true" data-linkindex="10">aishaydavis@wustl.edu</a></
 li></ul>
LOCATION:Moore Auditorium
GEO:38.634894;-90.261691
ORGANIZER;CN="Jennifer":MAILTO:mosherj@wustl.edu
URL;VALUE=URI:https://internalmedicinefaculty.wustl.edu/events/event/negoti
 ating-effectively-for-workplace-success/
END:VEVENT
BEGIN:VTIMEZONE
TZID:America/Chicago
BEGIN:STANDARD
TZOFFSETFROM:-0500
TZOFFSETTO:-0600
DTSTART:20221106T070000
TZNAME:CST
END:STANDARD
END:VTIMEZONE
END:VCALENDAR
