BEGIN:VCALENDAR
VERSION:2.0
PRODID:-//Office of Faculty Development//NONSGML Events//EN
CALSCALE:GREGORIAN
X-ORIGINAL-URL:https://internalmedicinefaculty.wustl.edu/events/
X-WR-CALDESC:Office of Faculty Development - Events
BEGIN:VEVENT
UID:20170107T0414Z-1483762499.612-EO-642-1@172.20.65.30
STATUS:CONFIRMED
DTSTAMP:20260423T100452Z
CREATED:20170104T164743Z
LAST-MODIFIED:20180212T165015Z
DTSTART;TZID=America/Chicago:20180427T080000
DTEND;TZID=America/Chicago:20180427T130000
SUMMARY: NIH Mock Study Section
DESCRIPTION: The Office of Training Grants will host their Spring NIH Mock 
 Study Sections on Friday\, April 27th from 8:00am – 12:00pm in CAM\, Room 2
 .  The NIH Mock Study Section is designed to simulate an actual NIH study s
 ection. NIH clinical and translational R\, K\, and F series grant applicati
 ons submitted to the Mock Study Section […]
X-ALT-DESC;FMTTYPE=text/html: <p>The Office of Training Grants will host th
 eir Spring NIH Mock Study Sections on Friday\, April 27th from 8:00am – 12:
 00pm in CAM\, Room 2.  The NIH Mock Study Section is designed to simulate a
 n actual NIH study section. NIH clinical and translational R\, K\, and F se
 ries grant applications submitted to the Mock Study Section will be reviewe
 d\, critiqued\, and scored by three internal faculty members as well as oth
 er study section members\, and the feedback will be distributed to applican
 ts prior to the NIH grant deadline.</p><p><strong><u>All investigators</u><
 /strong> preparing an NIH grant application for the R\, K\, and F series ar
 e encouraged to submit their clinical or translational proposals for this i
 nternal review.<br /><strong><u>Observers</u></strong> are also encouraged 
 to attend to get a better understanding of the review process.<br /><strong
 ><u>Faculty</u></strong> with NIH study section experience\, we need your h
 elp! Please let us know if you are willing to participate and your areas of
  expertise. If interested\, email: <a href="mailto:eabente@wustl.edu">eaben
 te@wustl.edu</a>.</p><p><strong>Letters of Intent are due Friday\, February
  2\, 2018</strong>. Guidelines can be found <a href="https://internalmedici
 nefaculty.wustl.edu/app/uploads/2017/07/OTG_MockStudy_LOI_Guidelines.pdf">h
 ere</a>.</p><p><strong><u>NIH Mock Study Section Facilitators<br /></u></st
 rong><strong>Dr. Mario Castro<br /></strong><em>Alan A. and Edith L. Wolff 
 Professor of Medicine<br /></em>Director\, Office of Training Grants and Of
 fice of Faculty Development</p><p><strong>Dr. Jay Piccirillo<br /></strong>
 <em>Professor of Otolaryngology – Head and Neck Surgery<br /></em>Director\
 , TL1 Predoctoral Clinical Research Program​</p><p><strong>Karen Dodson<br 
 /></strong><em>Manager of Professional Development and Academic Publishing 
 Services<br /></em>Office of Faculty Affairs</p><p>For more information\, v
 isit <a href="http://mailingsresponse.wustl.edu/trk/click?ref=z1030up2e7_1-
 6131x3103ax01320&">crtc.wustl.edu/otg</a>\, or contact <a href="mailto:eabe
 nte@wustl.edu">eabente@wustl.edu</a>.</p><p><strong>Karen Dodson<br /></str
 ong><em>Manager of Professional Development and Academic Publishing Service
 s<br /></em>Office of Faculty Affairs</p><p>For more information\, visit <a
  href="http://mailingsresponse.wustl.edu/trk/click?ref=z1030up2e7_1-6131x31
 03ax01320&">crtc.wustl.edu/otg</a>\, or contact <a href="mailto:eabente@wus
 tl.edu">eabente@wustl.edu</a>.</p>
ORGANIZER;CN="Jennifer":MAILTO:mosherj@wustl.edu
URL;VALUE=URI:https://internalmedicinefaculty.wustl.edu/events/event/letter
 s-of-intent-for-spring-nih-mock-study-section-due/
END:VEVENT
BEGIN:VTIMEZONE
TZID:America/Chicago
BEGIN:DAYLIGHT
TZOFFSETFROM:-0600
TZOFFSETTO:-0500
DTSTART:20180311T080000
TZNAME:CDT
END:DAYLIGHT
END:VTIMEZONE
END:VCALENDAR
