BEGIN:VCALENDAR
VERSION:2.0
PRODID:-//Office of Faculty Development//NONSGML Events//EN
CALSCALE:GREGORIAN
X-ORIGINAL-URL:https://internalmedicinefaculty.wustl.edu/events/
X-WR-CALDESC:Office of Faculty Development - Events
BEGIN:VEVENT
UID:20171027T1709Z-1509124190.1085-EO-1833-1@172.20.65.30
STATUS:CONFIRMED
DTSTAMP:20260425T105237Z
CREATED:20171027T152956Z
LAST-MODIFIED:20171027T153208Z
DTSTART;TZID=America/Chicago:20171207T160000
DTEND;TZID=America/Chicago:20171207T170000
SUMMARY: How to Use PowerPoint as an Effective Teaching Tool
DESCRIPTION: How to Use PowerPoint as an Effective Teaching Tool Speaker: K
 aren L. Dodson\, MBA For many\, PowerPoint is still the mainstay of present
 ing research\, but sometimes the message gets lost due to cluttered slides\
 , too many slides\, or not enough slides at all. This session will present 
 tips on how to make a PowerPoint presentation […]
X-ALT-DESC;FMTTYPE=text/html: <p><strong>How to Use PowerPoint as an Effect
 ive Teaching Tool</strong><br />Speaker: Karen L. Dodson\, MBA</p><p>For ma
 ny\, PowerPoint is still the mainstay of presenting research\, but sometime
 s the message gets lost due to cluttered slides\, too many slides\, or not 
 enough slides at all. This session will present tips on how to make a Power
 Point presentation more effective. Templates and other tools as well as opp
 ortunities for practice will be provided at this session.</p><p><strong>Loc
 ation</strong>: Human Resources Training Room 2057\, 2nd floor\, Mid Campus
  Center</p><p>Hosted by the <a href="https://facultyaffairs.wusm.wustl.edu/
 ">Office of Faculty Affairs</a></p>
ORGANIZER;CN="Jennifer":MAILTO:mosherj@wustl.edu
URL;VALUE=URI:https://internalmedicinefaculty.wustl.edu/events/event/how-to
 -use-powerpoint-as-an-effective-teaching-tool/
END:VEVENT
BEGIN:VTIMEZONE
TZID:America/Chicago
BEGIN:STANDARD
TZOFFSETFROM:-0500
TZOFFSETTO:-0600
DTSTART:20171105T070000
TZNAME:CST
END:STANDARD
END:VTIMEZONE
END:VCALENDAR
