BEGIN:VCALENDAR
VERSION:2.0
PRODID:-//Office of Faculty Development//NONSGML Events//EN
CALSCALE:GREGORIAN
X-ORIGINAL-URL:https://internalmedicinefaculty.wustl.edu/events/
X-WR-CALDESC:Office of Faculty Development - Events
BEGIN:VEVENT
UID:20241102T1745Z-1730569539.4526-EO-6676-1@10.24.106.144
STATUS:CONFIRMED
DTSTAMP:20260425T192209Z
CREATED:20241101T184801Z
LAST-MODIFIED:20241101T185559Z
DTSTART;TZID=America/Chicago:20250110T080000
DTEND;TZID=America/Chicago:20250110T120000
SUMMARY: DOM Leadership Training Course – Session 6
DESCRIPTION: Session 6 – Healthcare Quality Measurement and Improvement Tra
 ining Objectives: Advance leadership and facilitation skills to improve tea
 m dynamics and effectively achieve desired outcomes Enhance knowledge of th
 e vocabulary\, concepts\, and strategies fundamental for success in leading
  system and process change in health care Improve leadership effectiveness 
 by enhancing situation appraisal and decision making skills […]
X-ALT-DESC;FMTTYPE=text/html: <p><strong>Session 6 – Healthcare Quality Mea
 surement and Improvement</strong></p><p><strong>Training Objectives:</stron
 g></p><ul><li>Advance leadership and facilitation skills to improve team dy
 namics and effectively achieve desired outcomes</li><li>Enhance knowledge o
 f the vocabulary\, concepts\, and strategies fundamental for success in lea
 ding system and process change in health care</li><li>Improve leadership ef
 fectiveness by enhancing situation appraisal and decision making skills</li
 ></ul><p><em>Please Note: The <a href="https://internalmedicinefaculty.wust
 l.edu/development/leadership/">DOM Leadership Training Sessions</a> are onl
 y for members of the 2024 Cohort. </em></p>
CATEGORIES:DOM Leadership Training Courses
LOCATION:Eric P. Newman Education Center
GEO:38.636879;-90.262400
ORGANIZER;CN="Jennifer":MAILTO:mosherj@wustl.edu
URL;VALUE=URI:https://internalmedicinefaculty.wustl.edu/events/event/dom-le
 adership-training-course-session-6/
END:VEVENT
BEGIN:VTIMEZONE
TZID:America/Chicago
BEGIN:STANDARD
TZOFFSETFROM:-0500
TZOFFSETTO:-0600
DTSTART:20241103T070000
TZNAME:CST
END:STANDARD
END:VTIMEZONE
END:VCALENDAR
