BEGIN:VCALENDAR
VERSION:2.0
PRODID:-//Office of Faculty Development//NONSGML Events//EN
CALSCALE:GREGORIAN
X-ORIGINAL-URL:https://internalmedicinefaculty.wustl.edu/events/
X-WR-CALDESC:Office of Faculty Development - Events
BEGIN:VEVENT
UID:20241102T1632Z-1730565133.3501-EO-6674-1@10.24.106.144
STATUS:CONFIRMED
DTSTAMP:20260425T092212Z
CREATED:20241101T184400Z
LAST-MODIFIED:20241101T184400Z
DTSTART;TZID=America/Chicago:20241206T080000
DTEND;TZID=America/Chicago:20241206T120000
SUMMARY: DOM Leadership Training Course – Session 4
DESCRIPTION: Session 4 – Conflict Management and Crucial Conversations Trai
 ning Objectives: Advance leadership and facilitation skills to improve team
  dynamics and effectively achieve desired outcomes Enhance knowledge of the
  vocabulary\, concepts\, and strategies fundamental for success in leading 
 system and process change in health care Improve leadership effectiveness b
 y enhancing situation appraisal and decision making skills […]
X-ALT-DESC;FMTTYPE=text/html: <p><strong>Session 4 – Conflict Management an
 d Crucial Conversations</strong></p><p><strong>Training Objectives:</strong
 ></p><ul><li>Advance leadership and facilitation skills to improve team dyn
 amics and effectively achieve desired outcomes</li><li>Enhance knowledge of
  the vocabulary\, concepts\, and strategies fundamental for success in lead
 ing system and process change in health care</li><li>Improve leadership eff
 ectiveness by enhancing situation appraisal and decision making skills</li>
 </ul><p><em>Please Note: The <a href="https://internalmedicinefaculty.wustl
 .edu/development/leadership/">DOM Leadership Training Sessions</a> are only
  for members of the 2024 Cohort. </em></p>
CATEGORIES:DOM Leadership Training Courses
LOCATION:Eric P. Newman Education Center
GEO:38.636879;-90.262400
ORGANIZER;CN="Jennifer":MAILTO:mosherj@wustl.edu
URL;VALUE=URI:https://internalmedicinefaculty.wustl.edu/events/event/dom-le
 adership-training-course-session-4-3/
END:VEVENT
BEGIN:VTIMEZONE
TZID:America/Chicago
BEGIN:STANDARD
TZOFFSETFROM:-0500
TZOFFSETTO:-0600
DTSTART:20241103T070000
TZNAME:CST
END:STANDARD
END:VTIMEZONE
END:VCALENDAR
