BEGIN:VCALENDAR
VERSION:2.0
PRODID:-//Office of Faculty Development//NONSGML Events//EN
CALSCALE:GREGORIAN
X-ORIGINAL-URL:https://internalmedicinefaculty.wustl.edu/events/
X-WR-CALDESC:Office of Faculty Development - Events
BEGIN:VEVENT
UID:20220323T1549Z-1648050595.2058-EO-5081-1@172.23.128.18
STATUS:CONFIRMED
DTSTAMP:20260425T092009Z
CREATED:20220309T190703Z
LAST-MODIFIED:20220309T190703Z
DTSTART;TZID=America/Chicago:20220914T080000
DTEND;TZID=America/Chicago:20220914T120000
SUMMARY: DOM Leadership Training Course – Session 1
DESCRIPTION: Training Objectives: Advance leadership and facilitation skill
 s to improve team dynamics and effectively achieve desired outcomes Enhance
  knowledge of the vocabulary\, concepts\, and strategies fundamental for su
 ccess in leading system and process change in health care Improve leadershi
 p effectiveness by enhancing situation appraisal and decision making skills
  Session 1: Facilitation Skills for Leaders – Participants will […]
X-ALT-DESC;FMTTYPE=text/html: <p><strong>Training Objectives:</strong></p><
 ul><li>Advance leadership and facilitation skills to improve team dynamics 
 and effectively achieve desired outcomes</li><li>Enhance knowledge of the v
 ocabulary\, concepts\, and strategies fundamental for success in leading sy
 stem and process change in health care</li><li>Improve leadership effective
 ness by enhancing situation appraisal and decision making skills</li></ul><
 p><strong><em>Session 1: Facilitation Skills for Leaders </em></strong>– Pa
 rticipants will learn how to facilitate in order to more effectively achiev
 e desired outcomes. Topics include Team Dynamics\, Essential Facilitation\,
  Advocacy & Inquiry\, Process Tools\, Disruptive Behavior Interventions and
  Planning Effective Meetings.</p><p><em>This course is open to all DOM Facu
 lty. The cost for faculty selected to the program will be covered by the De
 partment of Medicine.</em></p><p><strong>Applications downloaded from the <
 a href="https://internalmedicinefaculty.wustl.edu/development/leadership/">
 OFD website</a></strong></p><p>Applicants should send completed form\, thei
 r CV\, and a letter of support from their Division Chief.</p><p><strong><em
 >Application Deadline: May 1\, 2022</em></strong><br />Send applications to
  Jennifer Mosher (<a href="mailto:mosherj@wustl.edu">mosherj@wustl.edu</a>)
 </p><p><strong>For questions or additional info\, please contact:</strong><
 br />Jennifer Mosher\, Phone: 314-454-8960 | Email: <a href="mailto:mosherj
 @wustl.edu">mosherj@wustl.edu</a></p>
CATEGORIES:DOM Leadership Training Courses
LOCATION:BJC Learning Institute
GEO:38.628111;-90.335534
ORGANIZER;CN="McKinzie":MAILTO:tolliver.m@wustl.edu
URL;VALUE=URI:https://internalmedicinefaculty.wustl.edu/events/event/dom-le
 adership-training-course-session-1-2/
END:VEVENT
BEGIN:VTIMEZONE
TZID:America/Chicago
BEGIN:DAYLIGHT
TZOFFSETFROM:-0600
TZOFFSETTO:-0500
DTSTART:20220313T080000
TZNAME:CDT
END:DAYLIGHT
END:VTIMEZONE
END:VCALENDAR
