BEGIN:VCALENDAR
VERSION:2.0
PRODID:-//Office of Faculty Development//NONSGML Events//EN
CALSCALE:GREGORIAN
X-ORIGINAL-URL:https://internalmedicinefaculty.wustl.edu/events/
X-WR-CALDESC:Office of Faculty Development - Events
BEGIN:VEVENT
UID:20190827T0735Z-1566891342.6808-EO-3463-1@172.23.128.19
STATUS:CONFIRMED
DTSTAMP:20260421T173340Z
CREATED:20190826T203124Z
LAST-MODIFIED:20190826T203124Z
DTSTART;TZID=America/Chicago:20190828T150000
DTEND;TZID=America/Chicago:20190828T160000
SUMMARY: DOM  Institutional Resource Fair
DESCRIPTION: All Department of Medicine faculty and trainees are invited to
  join us for an Institutional Resource Fair hosted by the DOM Office of Fac
 ulty Development on August 28th from 3:00-4:00pm in Great Room B of the Eri
 c P. Newman Education Center.  Don’t miss this opportunity to network with 
 your DOM colleagues and collect WU SWAG […]
X-ALT-DESC;FMTTYPE=text/html: <p>All Department of Medicine faculty and tra
 inees are invited to join us for an Institutional Resource Fair hosted by t
 he DOM Office of Faculty Development on August 28th from 3:00-4:00pm in Gre
 at Room B of the Eric P. Newman Education Center.  Don’t miss this opportun
 ity to network with your DOM colleagues and collect WU SWAG while learning 
 more about the various centers\, cores\, and resources available to you at 
 WUSM.</p><p><b>Featuring</b>:</p><ul><li>Clinical Research Training Center 
 (CRTC)</li><li>Institute of Clinical and Translational Sciences (ICTS) & Co
 res</li></ul><ul><li>Institute of Public Health (IPH)</li><li>Institute of 
 Informatics (I2)</li><li>Center for Administrative Data Research (CADR)</li
 ><li>Education & Teaching Resources</li><li>EPIC</li><li>Siteman Cancer Cen
 ter</li><li>Becker Library - Searching the Literature & Managing Your Resea
 rch Work Flow Using End Note</li></ul><p><a href="https://internalmedicinef
 aculty.wustl.edu/app/uploads/2019/08/2019_ResourceFair.ppt">2019_ResourceFa
 ir</a> (pdf)</p>
LOCATION:Eric P. Newman Education Center
GEO:38.636879;-90.262400
ORGANIZER;CN="Jennifer":MAILTO:mosherj@wustl.edu
URL;VALUE=URI:https://internalmedicinefaculty.wustl.edu/events/event/dom-in
 stitutional-resource-fair/
END:VEVENT
BEGIN:VTIMEZONE
TZID:America/Chicago
BEGIN:DAYLIGHT
TZOFFSETFROM:-0600
TZOFFSETTO:-0500
DTSTART:20190310T080000
TZNAME:CDT
END:DAYLIGHT
END:VTIMEZONE
END:VCALENDAR
