BEGIN:VCALENDAR
VERSION:2.0
PRODID:-//Office of Faculty Development//NONSGML Events//EN
CALSCALE:GREGORIAN
X-ORIGINAL-URL:https://internalmedicinefaculty.wustl.edu/events/
X-WR-CALDESC:Office of Faculty Development - Events
BEGIN:VEVENT
UID:20161207T2139Z-1481146757.9353-EO-321-1@172.21.70.58
STATUS:CONFIRMED
DTSTAMP:20260422T122658Z
CREATED:20161128T202033Z
LAST-MODIFIED:20161128T202254Z
DTSTART;TZID=America/Chicago:20161206T153000
DTEND;TZID=America/Chicago:20161206T170000
SUMMARY: CRTC Career Development Seminar
DESCRIPTION: “Research:  What’s leadership got to do with it?” Alison L. An
 tes\, PhD Assistant Professor of Medicine\, General Medical Sciences Washin
 gton University in St. Louis Advance registration not required\, free and o
 pen to all.
X-ALT-DESC;FMTTYPE=text/html: <p><strong>"Research:  What's leadership got 
 to do with it?"</strong><br /><strong>Alison L. Antes\, PhD</strong><br />A
 ssistant Professor of Medicine\, General Medical Sciences<br />Washington U
 niversity in St. Louis</p><p>Advance registration not required\, free and o
 pen to all.</p>
LOCATION:Wohl Auditorium
GEO:38.636995;-90.264349
ORGANIZER;CN="Jennifer":MAILTO:mosherj@wustl.edu
URL;VALUE=URI:https://internalmedicinefaculty.wustl.edu/events/event/crtc-c
 areer-development-seminar/
END:VEVENT
BEGIN:VTIMEZONE
TZID:America/Chicago
BEGIN:STANDARD
TZOFFSETFROM:-0500
TZOFFSETTO:-0600
DTSTART:20161106T070000
TZNAME:CST
END:STANDARD
END:VTIMEZONE
END:VCALENDAR
