BEGIN:VCALENDAR
VERSION:2.0
PRODID:-//Office of Faculty Development//NONSGML Events//EN
CALSCALE:GREGORIAN
X-ORIGINAL-URL:https://internalmedicinefaculty.wustl.edu/events/
X-WR-CALDESC:Office of Faculty Development - Events
BEGIN:VEVENT
UID:20200919T1850Z-1600541414.1807-EO-4235-1@172.23.128.19
STATUS:CONFIRMED
DTSTAMP:20260422T142115Z
CREATED:20200916T200054Z
LAST-MODIFIED:20210216T152217Z
DTSTART;TZID=America/Chicago:20210309T153000
DTEND;TZID=America/Chicago:20210309T170000
SUMMARY: CRTC Career Development Seminar: Delivering Effective Presentation
 s
DESCRIPTION: Effective Presentations Tom De Fer\, MD\, FACP Online – Zoom T
 his seminar is part of the CRTC Career Development Seminar Series. The Care
 er Development Seminar Series offers periodic workshops and presentations o
 pen to all trainees\, faculty and staff on professional development\, best 
 practices\, resources and guidelines pertaining to research. To register\, 
 contact Jennifer Mosher at mosherj@wustl.edu.
X-ALT-DESC;FMTTYPE=text/html: <p class="entry-title"><strong>Effective Pres
 entations<br /></strong>Tom De Fer\, MD\, FACP</p><p><strong>Online – Zoom<
 /strong></p><p>This seminar is part of the<a href="https://crtc.wustl.edu/e
 vents/category/career-development-seminar/"><strong> CRTC Career Developmen
 t Seminar Series</strong></a>. The Career Development Seminar Series offers
  periodic workshops and presentations open to all trainees\, faculty and st
 aff on professional development\, best practices\, resources and guidelines
  pertaining to research.</p><p>To register\, contact Jennifer Mosher at <a 
 href="mailto:mosherj@wustl.edu">mosherj@wustl.edu</a>.</p>
ORGANIZER;CN="Jennifer":MAILTO:mosherj@wustl.edu
URL;VALUE=URI:https://internalmedicinefaculty.wustl.edu/events/event/crtc-c
 areer-development-seminar-effective-presentations/
END:VEVENT
BEGIN:VTIMEZONE
TZID:America/Chicago
BEGIN:STANDARD
TZOFFSETFROM:-0600
TZOFFSETTO:-0600
DTSTART:20201101T070000
TZNAME:CST
END:STANDARD
END:VTIMEZONE
END:VCALENDAR
