BEGIN:VCALENDAR
VERSION:2.0
PRODID:-//Office of Faculty Development//NONSGML Events//EN
CALSCALE:GREGORIAN
X-ORIGINAL-URL:https://internalmedicinefaculty.wustl.edu/events/
X-WR-CALDESC:Office of Faculty Development - Events
BEGIN:VEVENT
UID:20161207T2139Z-1481146757.9571-EO-326-1@172.21.70.58
STATUS:CONFIRMED
DTSTAMP:20260423T180541Z
CREATED:20161129T144807Z
LAST-MODIFIED:20161129T144807Z
DTSTART;TZID=America/Chicago:20170214T153000
DTEND;TZID=America/Chicago:20170214T173000
SUMMARY: CRTC Career Development Seminar
DESCRIPTION: “The Leap to Independent Funding” Laura Bierut\, MD Professor 
 Alison Cahill\, MD\, MSCI Associate Professor Patricia Cavazos-Rehg\, PhD A
 ssociate Professor Advance registration not required\, free and open to all
 .  
X-ALT-DESC;FMTTYPE=text/html: <p><strong>"The Leap to Independent Funding"<
 br />Laura Bierut\, MD<br /></strong>Professor<br /><strong>Alison Cahill\,
  MD\, MSCI</strong><br />Associate Professor<br /><strong>Patricia Cavazos-
 Rehg\, PhD</strong><br />Associate Professor</p><p>Advance registration not
  required\, free and open to all.</p><p> </p>
LOCATION:Wohl Auditorium
GEO:38.636995;-90.264349
ORGANIZER;CN="Jennifer":MAILTO:mosherj@wustl.edu
URL;VALUE=URI:https://internalmedicinefaculty.wustl.edu/events/event/crtc-c
 areer-development-seminar-3/
END:VEVENT
BEGIN:VTIMEZONE
TZID:America/Chicago
BEGIN:STANDARD
TZOFFSETFROM:-0500
TZOFFSETTO:-0600
DTSTART:20161106T070000
TZNAME:CST
END:STANDARD
END:VTIMEZONE
END:VCALENDAR
