BEGIN:VCALENDAR
VERSION:2.0
PRODID:-//Office of Faculty Development//NONSGML Events//EN
CALSCALE:GREGORIAN
X-ORIGINAL-URL:https://internalmedicinefaculty.wustl.edu/events/
X-WR-CALDESC:Office of Faculty Development - Events
BEGIN:VEVENT
UID:20161207T2139Z-1481146757.9486-EO-323-1@172.21.70.58
STATUS:CONFIRMED
DTSTAMP:20260422T171416Z
CREATED:20161128T202648Z
LAST-MODIFIED:20161128T202648Z
DTSTART;TZID=America/Chicago:20170110T153000
DTEND;TZID=America/Chicago:20170110T170000
SUMMARY: CRTC Career Development Seminar
DESCRIPTION: “Using Mentoring and Individual Career Development Plans to Fa
 cilitate Career Success” Peter Nagele\, MD\, MSc Assistant Professor of Ane
 sthesiology Washington University in St. Louis No advance registration nece
 ssary\, free and open to all
X-ALT-DESC;FMTTYPE=text/html: <p><strong>"Using Mentoring and Individual Ca
 reer Development Plans to Facilitate Career Success"</strong><br /><strong>
 Peter Nagele\, MD\, MSc</strong><br />Assistant Professor of Anesthesiology
 <br />Washington University in St. Louis</p><p>No advance registration nece
 ssary\, free and open to all</p>
LOCATION:Wohl Auditorium
GEO:38.636995;-90.264349
ORGANIZER;CN="Jennifer":MAILTO:mosherj@wustl.edu
URL;VALUE=URI:https://internalmedicinefaculty.wustl.edu/events/event/crtc-c
 areer-development-seminar-2/
END:VEVENT
BEGIN:VTIMEZONE
TZID:America/Chicago
BEGIN:STANDARD
TZOFFSETFROM:-0500
TZOFFSETTO:-0600
DTSTART:20161106T070000
TZNAME:CST
END:STANDARD
END:VTIMEZONE
END:VCALENDAR
