BEGIN:VCALENDAR
VERSION:2.0
PRODID:-//Office of Faculty Development//NONSGML Events//EN
CALSCALE:GREGORIAN
X-ORIGINAL-URL:https://internalmedicinefaculty.wustl.edu/events/
X-WR-CALDESC:Office of Faculty Development - Events
BEGIN:VEVENT
UID:20190619T2306Z-1560985589.9704-EO-3354-1@172.23.128.18
STATUS:CONFIRMED
DTSTAMP:20260425T181935Z
CREATED:20190619T140858Z
LAST-MODIFIED:20190619T141052Z
DTSTART;TZID=America/Chicago:20190726T130000
DTEND;TZID=America/Chicago:20190726T160000
SUMMARY: Creating a Respectful and Inclusive Workplace
DESCRIPTION: The Office of Faculty Affairs\, along with the AAMC will be of
 fering a two-part seminar on microagressions in the workplace.  This will b
 e an add-on free seminar in conjunction with the AAMC Early Career Women Fa
 culty Leadership program that is being held in St. Louis this year.   Diana
  Lautenberger\, MAT (Director\, Women in Medicine and […]
X-ALT-DESC;FMTTYPE=text/html: <p>The Office of Faculty Affairs\, along with
  the AAMC will be offering a two-part seminar on microagressions in the wor
 kplace.  This will be an add-on free seminar in conjunction with the AAMC E
 arly Career Women Faculty Leadership program that is being held in St. Loui
 s this year.   Diana Lautenberger\, MAT (Director\, Women in Medicine and S
 cience from the AAMC) will be presenting.</p><p>See below for program descr
 iption and registration.</p><p><strong>1:00-2:30 Part I - General Audience 
 (all faculty and faculty leaders)</strong></p><p><strong><em>What does resp
 ect in the workplace look like? How addressing power\, privilege and microa
 ggressions can re-empower us and create allies. </em></strong><br />This se
 ssion is designed for faculty and administrative leaders at all levels from
  junior faculty to department chairs and deans to explore concepts related 
 to disrespect and microaggressions in the workplace to identify ways we can
  be better allies and support everyone in academic medicine.</p><ul><li>Sha
 re national data on workplace respect particular to academic medicine.</li>
 <li>Understand how workplace microaggressions are manifestations of power\,
  privilege\, hierarchy and implicit bias and create hostile environments.</
 li><li>Explore strategies to respond to microaggressions and engage allies 
 to create more respectful and inclusive workplace environments.</li></ul><p
 ><strong>2:30-4:00 Part II - Designed for Women Faculty (however all facult
 y are welcome to attend)</strong></p><p><strong><em>Leadership Strategies f
 or Navigating Gender Dynamics in the Workplace</em></strong><br />Join us f
 or a presentation to explore specific barriers women face in the workplace 
 and how dispelling myths and combating microaggressions can lead to more wo
 men in leadership positions and a more equitable\, supportive environment o
 verall.</p><ul><li>Recognize the trends and progress to date on the advance
 ment of women faculty in academic medicine</li><li>Explore unique barriers 
 women face in the workplace and challenge myths about women and leadership<
 /li><li>Apply knowledge of gender dynamics in the workplace to improve inte
 rpersonal relationships and manage challenging situations\, including leade
 rship strategies to create allies for women in the workplace</li></ul><p><a
  href="https://internalmedicinefaculty.wustl.edu/app/uploads/2019/06/Creati
 ng-a-Respectful-and-Inclusive-Workplace.SIGNBOARD.docx.pdf">Workshop Flyer 
 (PDF)</a></p><p>Please <a href="https://mailingsresponse.wustl.edu/trk/clic
 k?ref=z1030up2e7_2-dc98x3f8d1x02221&">click</a> to register for Part I (all
  faculty and faculty leaders)</p><p>Please <a href="https://mailingsrespons
 e.wustl.edu/trk/click?ref=z1030up2e7_2-dc98x3f8d2x02221&">click</a> to regi
 ster for Part II (designed for women faculty\, however all are welcome to a
 ttend)</p>
LOCATION:Farrell Learning and Teaching Center\, Connor Auditorium
GEO:0.000000;0.000000
ORGANIZER;CN="Jennifer":MAILTO:mosherj@wustl.edu
URL;VALUE=URI:https://internalmedicinefaculty.wustl.edu/events/event/creati
 ng-a-respectful-and-inclusive-workplace/
END:VEVENT
BEGIN:VTIMEZONE
TZID:America/Chicago
BEGIN:DAYLIGHT
TZOFFSETFROM:-0600
TZOFFSETTO:-0500
DTSTART:20190310T080000
TZNAME:CDT
END:DAYLIGHT
END:VTIMEZONE
END:VCALENDAR
