BEGIN:VCALENDAR
VERSION:2.0
PRODID:-//Office of Faculty Development//NONSGML Events//EN
CALSCALE:GREGORIAN
X-ORIGINAL-URL:https://internalmedicinefaculty.wustl.edu/events/
X-WR-CALDESC:Office of Faculty Development - Events
BEGIN:VEVENT
UID:20210927T0641Z-1632724883.086-EO-4837-1@172.23.128.19
STATUS:CONFIRMED
DTSTAMP:20260425T213929Z
CREATED:20210924T193844Z
LAST-MODIFIED:20210924T194007Z
DTSTART;TZID=America/Chicago:20211011T170000
DTEND;TZID=America/Chicago:20211011T183000
SUMMARY: Constructing Letters of Recommendation for Trainees – Virtual Work
 shop and Panel Discussion
DESCRIPTION: Virtual Workshop and Panel Discussion How do you construct a g
 ood letter of reference for your trainees? Does your letter of reference fo
 r URM trainees need to be unique? Mitigating bias in letters and evaluation
 s – Do your letters for male and female trainees look the same? Should they
 ? Hosted by: DOM Vice Chair of […]
X-ALT-DESC;FMTTYPE=text/html: <p><strong>Virtual Workshop and Panel Discuss
 ion</strong></p><ul><li>How do you construct a good letter of reference for
  your trainees?</li><li>Does your letter of reference for URM trainees need
  to be unique?</li><li>Mitigating bias in letters and evaluations – Do your
  letters for male and female trainees look the same? Should they?</li></ul>
 <p>Hosted by:<br />DOM Vice Chair of Education<br />DOM Vice Chair for Heal
 th Equity<br />DOM Office of Faculty Development</p><p>Workshop Zoom link a
 vailable upon request from Jen Mosher (<a href="mailto:mosherj@wustl.edu">m
 osherj@wustl.edu</a>).</p>
ORGANIZER;CN="Jennifer":MAILTO:mosherj@wustl.edu
URL;VALUE=URI:https://internalmedicinefaculty.wustl.edu/events/event/constr
 ucting-letters-of-recommendation-for-trainees-virtual-workshop-and-panel-di
 scussion/
END:VEVENT
BEGIN:VTIMEZONE
TZID:America/Chicago
BEGIN:DAYLIGHT
TZOFFSETFROM:-0600
TZOFFSETTO:-0500
DTSTART:20210314T080000
TZNAME:CDT
END:DAYLIGHT
END:VTIMEZONE
END:VCALENDAR
