BEGIN:VCALENDAR
VERSION:2.0
PRODID:-//Office of Faculty Development//NONSGML Events//EN
CALSCALE:GREGORIAN
X-ORIGINAL-URL:https://internalmedicinefaculty.wustl.edu/events/
X-WR-CALDESC:Office of Faculty Development - Events
BEGIN:VEVENT
UID:20170720T2049Z-1500583753.206-EO-1577-1@172.20.65.30
STATUS:CONFIRMED
DTSTAMP:20260424T015203Z
CREATED:20201211T145233Z
LAST-MODIFIED:20201211T161359Z
DTSTART;TZID=America/Chicago:20210129T153000
DTEND;TZID=America/Chicago:20210129T170000
SUMMARY: Clinician Educator Portfolio Workshop
DESCRIPTION: Will your CEP get you promoted? All faculty on the Clinician T
 rack in the Department of Medicine are encouraged to attend and bring a com
 pleted CEP to be reviewed and discussed. Registration for this event will b
 e capped at 30. This workshop will be held virtually on zoom. To register a
 nd receive a zoom link click […]
X-ALT-DESC;FMTTYPE=text/html: <p><strong>Will your CEP get you promoted?</s
 trong></p><p>All faculty on the Clinician Track in the Department of Medici
 ne are encouraged to attend and <strong>bring a completed CEP to be reviewe
 d and discussed</strong>.</p><p>Registration for this event will be capped 
 at 30.</p><p>This workshop will be held virtually on zoom.</p><p>To registe
 r and receive a zoom link click <strong><a href="https://wucrtc.az1.qualtri
 cs.com/jfe/form/SV_8iH2esmwRUlpboN">here</a></strong>.</p>
ORGANIZER;CN="Jennifer":MAILTO:mosherj@wustl.edu
URL;VALUE=URI:https://internalmedicinefaculty.wustl.edu/events/event/clinic
 ian-educator-portfolio-workshop/
END:VEVENT
BEGIN:VTIMEZONE
TZID:America/Chicago
BEGIN:STANDARD
TZOFFSETFROM:-0500
TZOFFSETTO:-0600
DTSTART:20201101T070000
TZNAME:CST
END:STANDARD
END:VTIMEZONE
END:VCALENDAR
