BEGIN:VCALENDAR
VERSION:2.0
PRODID:-//Office of Faculty Development//NONSGML Events//EN
CALSCALE:GREGORIAN
X-ORIGINAL-URL:https://internalmedicinefaculty.wustl.edu/events/
X-WR-CALDESC:Office of Faculty Development - Events
BEGIN:VEVENT
UID:20210614T0346Z-1623642367.5956-EO-4606-1@172.23.128.19
STATUS:CONFIRMED
DTSTAMP:20260419T235647Z
CREATED:20210607T195141Z
LAST-MODIFIED:20210607T195141Z
DTSTART;TZID=America/Chicago:20210630T163000
DTEND;TZID=America/Chicago:20210630T180000
SUMMARY: Celebrate PRIDE Through CommUNITY
DESCRIPTION: Hosted by the Office of Diversity\, Equity and Inclusion This 
 session will provide space to come together in solidarity to honor the expe
 riences of the LGBTQ+ community over the past year and continue to build a 
 supportive WUSM community. Please register here for this event.
X-ALT-DESC;FMTTYPE=text/html: <p>Hosted by the Office of Diversity\, Equity
  and Inclusion</p><p>This session will provide space to come together in so
 lidarity to honor the experiences of the LGBTQ+ community over the past yea
 r and continue to build a supportive WUSM community.</p><p>Please register 
 <a href="https://diversity.med.wustl.edu/events/calendar/celebrate-pride-th
 rough-community/">here</a> for this event.</p>
ORGANIZER;CN="Jennifer":MAILTO:mosherj@wustl.edu
URL;VALUE=URI:https://internalmedicinefaculty.wustl.edu/events/event/celebr
 ate-pride-through-community/
END:VEVENT
BEGIN:VTIMEZONE
TZID:America/Chicago
BEGIN:DAYLIGHT
TZOFFSETFROM:-0600
TZOFFSETTO:-0500
DTSTART:20210314T080000
TZNAME:CDT
END:DAYLIGHT
END:VTIMEZONE
END:VCALENDAR
