BEGIN:VCALENDAR
VERSION:2.0
PRODID:-//Office of Faculty Development//NONSGML Events//EN
CALSCALE:GREGORIAN
X-ORIGINAL-URL:https://internalmedicinefaculty.wustl.edu/events/
X-WR-CALDESC:Office of Faculty Development - Events
BEGIN:VEVENT
UID:20180405T1013Z-1522923231.0857-EO-2199-1@172.20.65.30
STATUS:CONFIRMED
DTSTAMP:20260420T001914Z
CREATED:20180404T160248Z
LAST-MODIFIED:20180404T160622Z
DTSTART;TZID=America/Chicago:20180509T183000
DTEND;TZID=America/Chicago:20180509T203000
SUMMARY: Academic Women’s Network – Spring Dinner
DESCRIPTION: Wednesday\, May 9\, 2018 6:30pm McDonnell Center at River Camp
 \, St. Louis Zoo\, Wells Drive Entrance Brainstorming Session:  What could 
 an Office for the Advancement of Women do for Us? Victoria J. Fraser\, MD A
 dolphus Busch Professor of Medicine Chair\, Department of Medicine Washingt
 on University SChool of Medicine Register and pay by 5/4/18 Event Flyer
X-ALT-DESC;FMTTYPE=text/html: <p>Wednesday\, May 9\, 2018<br />6:30pm<br />
 McDonnell Center at River Camp\, St. Louis Zoo\, Wells Drive Entrance</p><p
 ><strong>Brainstorming Session:  What could an Office for the Advancement o
 f Women do for Us?</strong><br />Victoria J. Fraser\, MD<br />Adolphus Busc
 h Professor of Medicine<br />Chair\, Department of Medicine<br />Washington
  University SChool of Medicine</p><p><a href="http://awn.wustl.edu/event-28
 64104">Register and pay</a> by 5/4/18<br /><a href="https://internalmedicin
 efaculty.wustl.edu/app/uploads/2018/04/Spring-dinner-2018.jpg">Event Flyer<
 /a></p>
ORGANIZER;CN="Jennifer":MAILTO:mosherj@wustl.edu
URL;VALUE=URI:https://internalmedicinefaculty.wustl.edu/events/event/awn-sp
 ring-dinner/
END:VEVENT
BEGIN:VTIMEZONE
TZID:America/Chicago
BEGIN:DAYLIGHT
TZOFFSETFROM:-0600
TZOFFSETTO:-0500
DTSTART:20180311T080000
TZNAME:CDT
END:DAYLIGHT
END:VTIMEZONE
END:VCALENDAR
