BEGIN:VCALENDAR
VERSION:2.0
PRODID:-//Office of Faculty Development//NONSGML Events//EN
CALSCALE:GREGORIAN
X-ORIGINAL-URL:https://internalmedicinefaculty.wustl.edu/events/
X-WR-CALDESC:Office of Faculty Development - Events
BEGIN:VEVENT
UID:20181119T2233Z-1542666837.0304-EO-2740-1@172.23.128.19
STATUS:CONFIRMED
DTSTAMP:20260421T070214Z
CREATED:20181119T150102Z
LAST-MODIFIED:20181119T150102Z
DTSTART;TZID=America/Chicago:20181203T183000
DTEND;TZID=America/Chicago:20181203T203000
SUMMARY: AWN Fall Dinner
DESCRIPTION: Leading as a woman Joan Magruder BJC Group President President
 \, St. Louis Children’s Hospital King Center\, 7th floor\, Becker Medical L
 ibrary 6:30pm Register for this event or contact: hartzs@wustl.edu
X-ALT-DESC;FMTTYPE=text/html: <p><strong>Leading as a woman<br />Joan Magru
 der<br /></strong>BJC Group President<br />President\, St. Louis Children's
  Hospital<br />King Center\, 7th floor\, Becker Medical Library<br />6:30pm
 </p><p><a href="http://awn.wustl.edu/">Register for this event</a> or conta
 ct: <a href="mailto:hartzs@wustl.edu">hartzs@wustl.edu</a></p>
LOCATION:King Center\, Becker Library
GEO:38.635144;-90.262929
ORGANIZER;CN="Jennifer":MAILTO:mosherj@wustl.edu
URL;VALUE=URI:https://internalmedicinefaculty.wustl.edu/events/event/awn-fa
 ll-dinner/
END:VEVENT
BEGIN:VTIMEZONE
TZID:America/Chicago
BEGIN:STANDARD
TZOFFSETFROM:-0500
TZOFFSETTO:-0600
DTSTART:20181104T070000
TZNAME:CST
END:STANDARD
END:VTIMEZONE
END:VCALENDAR
