BEGIN:VCALENDAR
VERSION:2.0
PRODID:-//Office of Faculty Development//NONSGML Events//EN
CALSCALE:GREGORIAN
X-ORIGINAL-URL:https://internalmedicinefaculty.wustl.edu/events/
X-WR-CALDESC:Office of Faculty Development - Events
BEGIN:VEVENT
UID:20220708T0615Z-1657260940.803-EO-5587-1@172.23.128.18
STATUS:CONFIRMED
DTSTAMP:20260420T130339Z
CREATED:20220708T004605Z
LAST-MODIFIED:20220708T004605Z
DTSTART;TZID=America/Chicago:20220727T160000
DTEND;TZID=America/Chicago:20220727T163000
SUMMARY: Annual Faculty Evaluation Form –  Updates Everyone Should Know
DESCRIPTION: Annual Faculty Evaluation Form – Updates Everyone Should Know 
 Presented by: Hilary Babcock\, MD\, MPH – Professor of Medicine Sharon Cres
 ci\, MD – Associate Professor of Medicine Register for zoom link.
X-ALT-DESC;FMTTYPE=text/html: <p><b>Annual Faculty Evaluation Form – </b><b
 >Updates Everyone </b><b>Should </b><b>Know</b></p><p><b><i>Presented </i><
 /b><b><i>by</i></b><i>: </i></p><p>Hilary Babcock\, MD\, MPH – Professor of
  Medicine<br />Sharon Cresci\, MD – Associate Professor of Medicine</p><p><
 a href="https://wucrtc.az1.qualtrics.com/jfe/form/SV_1LnyaU8j5Ai4MK2">Regis
 ter</a> for zoom link.</p>
LOCATION:Online - Zoom
GEO:38.634745;-90.262682
ORGANIZER;CN="Jennifer":MAILTO:mosherj@wustl.edu
URL;VALUE=URI:https://internalmedicinefaculty.wustl.edu/events/event/annual
 -faculty-evaluation-form-updates-everyone-should-know/
END:VEVENT
BEGIN:VTIMEZONE
TZID:America/Chicago
BEGIN:DAYLIGHT
TZOFFSETFROM:-0600
TZOFFSETTO:-0500
DTSTART:20220313T080000
TZNAME:CDT
END:DAYLIGHT
END:VTIMEZONE
END:VCALENDAR
