BEGIN:VCALENDAR
VERSION:2.0
PRODID:-//Office of Faculty Development//NONSGML Events//EN
CALSCALE:GREGORIAN
X-ORIGINAL-URL:https://internalmedicinefaculty.wustl.edu/events/
X-WR-CALDESC:Office of Faculty Development - Events
BEGIN:VEVENT
UID:20170418T0440Z-1492490418.3327-EO-976-1@172.20.65.30
STATUS:CONFIRMED
DTSTAMP:20260424T110548Z
CREATED:20170417T142505Z
LAST-MODIFIED:20170417T172514Z
DTSTART;TZID=America/Chicago:20170420T183000
DTEND;TZID=America/Chicago:20170420T210000
SUMMARY: Society of Hospital Medicine St. Louis Chapter presents “Caring fo
 r the Transgender Population”
DESCRIPTION: April 20th at 6:30 pm Society of Hospital Medicine St. Louis C
 hapter The Cheshire “Caring for the Transgender Population” Presented by: D
 r. Sarah Garwood\, Assistant Professor\, Division of Adolescent Medicine\, 
 Dr. Chris Lewis\, Fellow in Pediatric Endocrinology\, Dr. Hilary Reno\, Ass
 istant Professor\, Division of Hospital Medicine and Infectious Disease\, a
 nd Dr. Purvi Shah\, Assistant Professor\, Division of Hospital […]
X-ALT-DESC;FMTTYPE=text/html: <p><strong>April 20th at 6:30 pm<br /></stron
 g><strong>Society of Hospital Medicine St. Louis Chapter<br /></strong><str
 ong>The Cheshire<br /></strong><strong>"Caring for the Transgender Populati
 on"<br />Presented by</strong>:<br />Dr. Sarah Garwood\, Assistant Professo
 r\, Division of Adolescent Medicine\, Dr. Chris Lewis\, Fellow in Pediatric
  Endocrinology\, Dr. Hilary Reno\, Assistant Professor\, Division of Hospit
 al Medicine and Infectious Disease\, and Dr. Purvi Shah\, Assistant Profess
 or\, Division of Hospital Medicine.</p><p>Registration and hors d’oeuvres w
 ill begin at 6:30 pm followed by opening remarks\, and featured presentatio
 n commencing at 7:00pm. The panelists will then take questions from the aud
 ience.  This program is open to all physicians\, nurse practitioners\, phys
 ician assistants\, hospital administrators\, residents\, interns\, medical 
 students and other interested health care professionals. Membership in SHM 
 is NOT REQUIRED to attend.</p><p><strong>RSVP online by April 17th by click
 ing <a href="http://events.eventzilla.net/">http://events.eventzilla.net</a
 > or visiting <a href="http://www.hospitalmedicine.org/StLouis">www.Hospita
 lMedicine.org/StLouis</a></strong></p><p>The Cheshire\, (Upstairs)\, 6300 C
 layton Road\, St. Louis\, MO 63117\; (314) 647-7300</p><p> </p>
ORGANIZER;CN="Jennifer":MAILTO:mosherj@wustl.edu
URL;VALUE=URI:https://internalmedicinefaculty.wustl.edu/events/event/976/
END:VEVENT
BEGIN:VTIMEZONE
TZID:America/Chicago
BEGIN:DAYLIGHT
TZOFFSETFROM:-0600
TZOFFSETTO:-0500
DTSTART:20170312T080000
TZNAME:CDT
END:DAYLIGHT
END:VTIMEZONE
END:VCALENDAR
