BEGIN:VCALENDAR
VERSION:2.0
PRODID:-//Office of Faculty Development//NONSGML Events//EN
CALSCALE:GREGORIAN
X-ORIGINAL-URL:https://internalmedicinefaculty.wustl.edu/events/
X-WR-CALDESC:Office of Faculty Development - Events
BEGIN:VEVENT
UID:20180119T0150Z-1516326622.4302-EO-1997-1@172.20.65.30
STATUS:CONFIRMED
DTSTAMP:20260422T114138Z
CREATED:20180118T202236Z
LAST-MODIFIED:20180118T202236Z
DTSTART;TZID=America/Chicago:20180425T080000
DTEND;TZID=America/Chicago:20180425T160000
SUMMARY: 8th Annual PCOR Symposium
DESCRIPTION: The 8th Annual PCOR Symposium at Washington University will ta
 ke place on April 25\, 2018 in the Eric P. Newman Center.  The deadline for
  abstract submission is February 2\, 2018. PCOR Symposium Flyer (pdf)
X-ALT-DESC;FMTTYPE=text/html: <p>The <a href="http://pcor.wustl.edu/">8th A
 nnual PCOR Symposium</a> at Washington University will take place on April 
 25\, 2018 in the Eric P. Newman Center.  The deadline for abstract submissi
 on is February 2\, 2018.</p><p><a href="https://internalmedicinefaculty.wus
 tl.edu/app/uploads/2018/01/2018_PCORSymposium_CallForAbstracts_FINAL.pdf">P
 COR Symposium Flyer (pdf)</a></p>
ORGANIZER;CN="Jennifer":MAILTO:mosherj@wustl.edu
URL;VALUE=URI:https://internalmedicinefaculty.wustl.edu/events/event/8th-an
 nual-pcor-symposium/
END:VEVENT
BEGIN:VTIMEZONE
TZID:America/Chicago
BEGIN:DAYLIGHT
TZOFFSETFROM:-0600
TZOFFSETTO:-0500
DTSTART:20180311T080000
TZNAME:CDT
END:DAYLIGHT
END:VTIMEZONE
END:VCALENDAR
