BEGIN:VCALENDAR
VERSION:2.0
PRODID:-//Office of Faculty Development//NONSGML Events//EN
CALSCALE:GREGORIAN
X-ORIGINAL-URL:https://internalmedicinefaculty.wustl.edu/events/
X-WR-CALDESC:Office of Faculty Development - Events
BEGIN:VEVENT
UID:20250411T2211Z-1744409513.9925-EO-6790-1@10.73.10.53
STATUS:CONFIRMED
DTSTAMP:20260420T143447Z
CREATED:20250411T134948Z
LAST-MODIFIED:20250506T133705Z
DTSTART;TZID=America/Chicago:20250826T120000
DTEND;TZID=America/Chicago:20250826T153000
SUMMARY: 2025 New Faculty Orientation
DESCRIPTION: Location: Great Room A & B\, Eric P. Newman Education Center P
 resented by:  Office of Faculty Development All new or recently hired facul
 ty in the Department of Medicine are required to attend! Lunch provided. Re
 gister here
X-ALT-DESC;FMTTYPE=text/html: <p><strong>Location:</strong> Great Room A & 
 B\, Eric P. Newman Education Center</p><p><strong>Presented by:</strong>  O
 ffice of Faculty Development</p><p>All new or recently hired faculty in the
  Department of Medicine are required to attend!</p><p>Lunch provided.</p><p
 ><a class="button-primary" href="https://wucrtc.az1.qualtrics.com/jfe/form/
 SV_88nRtwvqUq1EbQO">Register here</a></p>
CATEGORIES:New Faculty Orientation
LOCATION:Eric P. Newman Education Center
GEO:38.636879;-90.262400
ORGANIZER;CN="Jennifer":MAILTO:mosherj@wustl.edu
URL;VALUE=URI:https://internalmedicinefaculty.wustl.edu/events/event/2025-n
 ew-faculty-orientation/
END:VEVENT
BEGIN:VTIMEZONE
TZID:America/Chicago
BEGIN:DAYLIGHT
TZOFFSETFROM:-0600
TZOFFSETTO:-0500
DTSTART:20250309T080000
TZNAME:CDT
END:DAYLIGHT
END:VTIMEZONE
END:VCALENDAR
