BEGIN:VCALENDAR
VERSION:2.0
PRODID:-//Office of Faculty Development//NONSGML Events//EN
CALSCALE:GREGORIAN
X-ORIGINAL-URL:https://internalmedicinefaculty.wustl.edu/events/
X-WR-CALDESC:Office of Faculty Development - Events
BEGIN:VEVENT
UID:20240325T2044Z-1711399485.6639-EO-6453-1@172.23.128.18
STATUS:CONFIRMED
DTSTAMP:20260420T131222Z
CREATED:20240325T175547Z
LAST-MODIFIED:20240516T150322Z
DTSTART;TZID=America/Chicago:20240827T120000
DTEND;TZID=America/Chicago:20240827T160000
SUMMARY: 2024 New Faculty Orientation
DESCRIPTION: Location: Great Room A & B\, Eric P. Newman Education Center P
 resented by:  Office of Faculty Development All new or recently hired facul
 ty in the Department of Medicine are required to attend! Lunch provided. Re
 gistration is now open.
X-ALT-DESC;FMTTYPE=text/html: <p><strong>Location:</strong> Great Room A & 
 B\, Eric P. Newman Education Center</p><p><strong>Presented by:</strong>  O
 ffice of Faculty Development</p><p>All new or recently hired faculty in the
  Department of Medicine are required to attend!</p><p>Lunch provided.</p><p
 ><a href="https://wucrtc.az1.qualtrics.com/jfe/form/SV_1Y7a8TYQkuuWW4S">Reg
 istration</a> is now open.</p>
CATEGORIES:New Faculty Orientation
LOCATION:Eric P. Newman Education Center
GEO:38.636879;-90.262400
ORGANIZER;CN="Jennifer":MAILTO:mosherj@wustl.edu
URL;VALUE=URI:https://internalmedicinefaculty.wustl.edu/events/event/2024-n
 ew-faculty-orientation/
END:VEVENT
BEGIN:VTIMEZONE
TZID:America/Chicago
BEGIN:DAYLIGHT
TZOFFSETFROM:-0600
TZOFFSETTO:-0500
DTSTART:20240310T080000
TZNAME:CDT
END:DAYLIGHT
END:VTIMEZONE
END:VCALENDAR
