BEGIN:VCALENDAR
VERSION:2.0
PRODID:-//Office of Faculty Development//NONSGML Events//EN
CALSCALE:GREGORIAN
X-ORIGINAL-URL:https://internalmedicinefaculty.wustl.edu/events/
X-WR-CALDESC:Office of Faculty Development - Events
BEGIN:VEVENT
UID:20181220T2030Z-1545337859.0638-EO-2800-1@172.23.128.19
STATUS:CONFIRMED
DTSTAMP:20260424T090117Z
CREATED:20181220T174642Z
LAST-MODIFIED:20190614T190607Z
DTSTART;TZID=America/Chicago:20190828T123000
DTEND;TZID=America/Chicago:20190828T160000
SUMMARY: 2019 DOM New Faculty Orientation
DESCRIPTION: Wednesday\, August 28\, 2019 12:30-4:00 p.m. Eric P. Newman Ed
 ucation Center\, Seminar Room B Presented by:  Dr. Angela Brown and Dr. Mar
 io Castro\, Office of Faculty Development All new or recently hired faculty
  in the Department of Medicine are required to attend! Lunch provided. Orie
 ntation Agenda Welcome & Overview of OFD How does the medical […]
X-ALT-DESC;FMTTYPE=text/html: <p><strong>Wednesday\, August 28\, 2019</stro
 ng><br /><strong>12:30-4:00 p.m.</strong><br /><strong>Eric P. Newman Educa
 tion Center\, Seminar Room B</strong></p><p>Presented by:  Dr. Angela Brown
  and Dr. Mario Castro\, Office of Faculty Development</p><p>All new or rece
 ntly hired faculty in the Department of Medicine are required to attend!<br
  />Lunch provided.</p><p><strong>Orientation Agenda<br /></strong>Welcome &
  Overview of OFD<br />How does the medical school and the DOM work?<br />Ho
 w do I plan my career development and succeed in academics?<br />What if I 
 am interested in research?<em><br /></em>OFD website and resources<em><br /
 ></em></p><p><a href="https://wucrtc.az1.qualtrics.com/jfe/form/SV_9FzdhB1f
 d8Zo8jX">New Faculty Orientation Registration</a></p><p>For more informatio
 n\, please contact Jennifer Mosher at <a href="mailto:mosherj@wustl.edu">mo
 sherj@wustl.edu</a>.</p>
ORGANIZER;CN="Jennifer":MAILTO:mosherj@wustl.edu
URL;VALUE=URI:https://internalmedicinefaculty.wustl.edu/events/event/2019-d
 om-new-faculty-orientation/
END:VEVENT
BEGIN:VTIMEZONE
TZID:America/Chicago
BEGIN:DAYLIGHT
TZOFFSETFROM:-0600
TZOFFSETTO:-0500
DTSTART:20190310T080000
TZNAME:CDT
END:DAYLIGHT
END:VTIMEZONE
END:VCALENDAR
